BEGIN:VCALENDAR
VERSION:2.0
PRODID:-//TMN Links - ECPv6.10.3//NONSGML v1.0//EN
CALSCALE:GREGORIAN
METHOD:PUBLISH
X-WR-CALNAME:TMN Links
X-ORIGINAL-URL:https://tmnlinks.net.au
X-WR-CALDESC:Events for TMN Links
REFRESH-INTERVAL;VALUE=DURATION:PT1H
X-Robots-Tag:noindex
X-PUBLISHED-TTL:PT1H
BEGIN:VTIMEZONE
TZID:Australia/Melbourne
BEGIN:STANDARD
TZOFFSETFROM:+1100
TZOFFSETTO:+1000
TZNAME:AEST
DTSTART:20260404T160000
END:STANDARD
BEGIN:DAYLIGHT
TZOFFSETFROM:+1000
TZOFFSETTO:+1100
TZNAME:AEDT
DTSTART:20261003T160000
END:DAYLIGHT
END:VTIMEZONE
BEGIN:VEVENT
DTSTART;TZID=Australia/Melbourne:20260424T163000
DTEND;TZID=Australia/Melbourne:20260424T193000
DTSTAMP:20260421T213923
CREATED:20260414T031506Z
LAST-MODIFIED:20260414T031529Z
UID:1124-1777048200-1777059000@tmnlinks.net.au
SUMMARY:CBICN INFO SHARE: Event for LGBTQ+ Community in Bankstown
DESCRIPTION:Yap sesh is a small series of events that ACON is running for Multicultural and/or CALD LGBTQ+ people in GWS (18+). The aim is to provide community with the opportunity to connect with and get to know each other\, as well as starting some conversations about storytelling and sharing your experiences in a culturally safe and empowering way.  \n  \nWe had a beautiful event in Parramatta a few weeks ago and our next event is in Bankstown! \nHere is the info for sharing: \n  \n \nIf you’re a Multicultural and/or CALD Westie who loves to yap – sign up now for the next Yap Sesh: Community Story Sharing event.  \nJoin us to chat to your community and get some story telling inspiration – plus\, of course\, a free feed.  \n  \nOur next event is on Friday 24th April 2025 in Bankstown. \n  \nHead here to sign up now: https://onlineforms.acon.org.au/260886492743066 \n  \nIf you have any questions feel free to send me an email! \nAll the best\, \nMads \n\n\n\n\n\n\n\n\n\n\n\n\n\n\n\n\n\n\n \n\n\nMadhuraa ‘Mads’ Prakash\, \nPronouns: they/she (more on pronouns here) \nProgram Coordinator Safety\, Inclusion and Justice \nSwitch: 02 9206 2000\nAddress: 414 Elizabeth St Surry Hills NSW 2010 \nEmail: mprakash@acon.org.au | Website: acon.org.au \n\n\n\n\nI acknowledge and pay my deepest respects to the Gadigal and Dharug people\, the owners and custodians of the lands on which I live\, work and play.  Sovereignty has never been ceded. Always was and always will be Aboriginal land. \n      
URL:https://tmnlinks.net.au/event/cbicn-info-share-event-for-lgbtq-community-in-bankstown/
CATEGORIES:Aboriginal,Children & Family,Disability,Men,Women,Youth
END:VEVENT
BEGIN:VEVENT
DTSTART;TZID=Australia/Melbourne:20260507T103000
DTEND;TZID=Australia/Melbourne:20260507T120000
DTSTAMP:20260421T213923
CREATED:20260421T061304Z
LAST-MODIFIED:20260421T061304Z
UID:1126-1778149800-1778155200@tmnlinks.net.au
SUMMARY:123 magic and emotional Coaching
DESCRIPTION:
URL:https://tmnlinks.net.au/event/123-magic-and-emotional-coaching-2/
LOCATION:westen sydney MRC
CATEGORIES:Aboriginal,Children & Family,Community Workers,Disability,Men,Women,Youth
END:VEVENT
BEGIN:VEVENT
DTSTART;TZID=Australia/Melbourne:20260514T103000
DTEND;TZID=Australia/Melbourne:20260514T120000
DTSTAMP:20260421T213923
CREATED:20260421T063445Z
LAST-MODIFIED:20260421T063652Z
UID:1130-1778754600-1778760000@tmnlinks.net.au
SUMMARY:123 Magic Parenting Session
DESCRIPTION:
URL:https://tmnlinks.net.au/event/1130/
CATEGORIES:Aboriginal,Children & Family,Community Workers,Disability,Men,Seniors,Women,Youth
END:VEVENT
BEGIN:VEVENT
DTSTART;TZID=Australia/Melbourne:20260528T103000
DTEND;TZID=Australia/Melbourne:20260528T120000
DTSTAMP:20260421T213923
CREATED:20260421T063736Z
LAST-MODIFIED:20260421T063736Z
UID:1132-1779964200-1779969600@tmnlinks.net.au
SUMMARY:123 Magic Parenting Session
DESCRIPTION:
URL:https://tmnlinks.net.au/event/123-magic-parenting-session/
CATEGORIES:Aboriginal,Children & Family,Community Workers,Disability,Men,Seniors,Women,Youth
END:VEVENT
END:VCALENDAR