BEGIN:VCALENDAR
VERSION:2.0
PRODID:-//TMN Links - ECPv6.10.3//NONSGML v1.0//EN
CALSCALE:GREGORIAN
METHOD:PUBLISH
X-WR-CALNAME:TMN Links
X-ORIGINAL-URL:https://tmnlinks.net.au
X-WR-CALDESC:Events for TMN Links
REFRESH-INTERVAL;VALUE=DURATION:PT1H
X-Robots-Tag:noindex
X-PUBLISHED-TTL:PT1H
BEGIN:VTIMEZONE
TZID:Australia/Melbourne
BEGIN:STANDARD
TZOFFSETFROM:+1100
TZOFFSETTO:+1000
TZNAME:AEST
DTSTART:20250405T160000
END:STANDARD
BEGIN:DAYLIGHT
TZOFFSETFROM:+1000
TZOFFSETTO:+1100
TZNAME:AEDT
DTSTART:20251004T160000
END:DAYLIGHT
END:VTIMEZONE
BEGIN:VEVENT
DTSTART;TZID=Australia/Melbourne:20250412T100000
DTEND;TZID=Australia/Melbourne:20250412T160000
DTSTAMP:20260422T030914
CREATED:20250409T061539Z
LAST-MODIFIED:20250409T061646Z
UID:768-1744452000-1744473600@tmnlinks.net.au
SUMMARY:LEGO - SCHOOL HOLIDAYS - @ Branxton Community Hall
DESCRIPTION:Just letting you know that this is on at Branxton on Sat12th & Sunday 13th April. \nGreat for the kids.
URL:https://tmnlinks.net.au/event/lego-school-holidays-branxton-community-hall/
LOCATION:Branxton Community Hall
CATEGORIES:Children & Family,Men,Women,Youth
END:VEVENT
BEGIN:VEVENT
DTSTART;TZID=Australia/Melbourne:20250412T100000
DTEND;TZID=Australia/Melbourne:20250412T233000
DTSTAMP:20260422T030914
CREATED:20250403T043551Z
LAST-MODIFIED:20250403T043551Z
UID:720-1744452000-1744500600@tmnlinks.net.au
SUMMARY:April School Holiday flyer - Holiday Play: 0-5 Years
DESCRIPTION:Holiday Play: 0-5 Years\nChildren will have the opportunity to explore\, engage and enjoy sensory play experiences while being confident\nkinesthetic and tactile learners. Children will foster their developmental domains\, enhance their skills and\nknowledge of their world around them whilst gaining a sense of belonging and identity.\n– Chester Hill Community Centre – Blue Hall – Thursday 17 April 2025\n-10:00AM – 11:30AM – Vera: 1300 254 65 \n  \n 
URL:https://tmnlinks.net.au/event/april-school-holiday-flyer-holiday-play-0-5-years/
CATEGORIES:Children & Family,Men,Women
END:VEVENT
END:VCALENDAR