BEGIN:VCALENDAR
VERSION:2.0
PRODID:-//TMN Links - ECPv6.10.3//NONSGML v1.0//EN
CALSCALE:GREGORIAN
METHOD:PUBLISH
X-ORIGINAL-URL:https://tmnlinks.net.au
X-WR-CALDESC:Events for TMN Links
REFRESH-INTERVAL;VALUE=DURATION:PT1H
X-Robots-Tag:noindex
X-PUBLISHED-TTL:PT1H
BEGIN:VTIMEZONE
TZID:Australia/Melbourne
BEGIN:STANDARD
TZOFFSETFROM:+1100
TZOFFSETTO:+1000
TZNAME:AEST
DTSTART:20250405T160000
END:STANDARD
BEGIN:DAYLIGHT
TZOFFSETFROM:+1000
TZOFFSETTO:+1100
TZNAME:AEDT
DTSTART:20251004T160000
END:DAYLIGHT
END:VTIMEZONE
BEGIN:VEVENT
DTSTART;TZID=Australia/Melbourne:20250429T100000
DTEND;TZID=Australia/Melbourne:20250501T140000
DTSTAMP:20260422T020437
CREATED:20250410T001134Z
LAST-MODIFIED:20250410T001134Z
UID:783-1745920800-1746108000@tmnlinks.net.au
SUMMARY:TAFE NSW Plant Sale - All welcome
DESCRIPTION:
URL:https://tmnlinks.net.au/event/tafe-nsw-plant-sale-all-welcome/
CATEGORIES:Aboriginal,Children & Family,Community Workers,Disability,Health & Wellbeing,Men,Seniors,Women,Youth
END:VEVENT
BEGIN:VEVENT
DTSTART;TZID=Australia/Melbourne:20250501T130000
DTEND;TZID=Australia/Melbourne:20250501T143000
DTSTAMP:20260422T020437
CREATED:20250423T001217Z
LAST-MODIFIED:20250423T001217Z
UID:817-1746104400-1746109800@tmnlinks.net.au
SUMMARY:Bankstown Women’s Health Centre – Mums & Bubs Yoga
DESCRIPTION:
URL:https://tmnlinks.net.au/event/bankstown-womens-health-centre-mums-bubs-yoga/
CATEGORIES:Aboriginal,Children & Family,Community Workers,Disability,Employment & Training,Health & Wellbeing,Men,Women,Youth
END:VEVENT
END:VCALENDAR